BEGIN:VCALENDAR
VERSION:2.0
PRODID:-//Young Professionals of Reno County - ECPv6.15.20//NONSGML v1.0//EN
CALSCALE:GREGORIAN
METHOD:PUBLISH
X-WR-CALNAME:Young Professionals of Reno County
X-ORIGINAL-URL:https://yprenocounty.com
X-WR-CALDESC:Events for Young Professionals of Reno County
REFRESH-INTERVAL;VALUE=DURATION:PT1H
X-Robots-Tag:noindex
X-PUBLISHED-TTL:PT1H
BEGIN:VTIMEZONE
TZID:America/Chicago
BEGIN:DAYLIGHT
TZOFFSETFROM:-0600
TZOFFSETTO:-0500
TZNAME:CDT
DTSTART:20250309T080000
END:DAYLIGHT
BEGIN:STANDARD
TZOFFSETFROM:-0500
TZOFFSETTO:-0600
TZNAME:CST
DTSTART:20251102T070000
END:STANDARD
BEGIN:DAYLIGHT
TZOFFSETFROM:-0600
TZOFFSETTO:-0500
TZNAME:CDT
DTSTART:20260308T080000
END:DAYLIGHT
BEGIN:STANDARD
TZOFFSETFROM:-0500
TZOFFSETTO:-0600
TZNAME:CST
DTSTART:20261101T070000
END:STANDARD
BEGIN:DAYLIGHT
TZOFFSETFROM:-0600
TZOFFSETTO:-0500
TZNAME:CDT
DTSTART:20270314T080000
END:DAYLIGHT
BEGIN:STANDARD
TZOFFSETFROM:-0500
TZOFFSETTO:-0600
TZNAME:CST
DTSTART:20271107T070000
END:STANDARD
END:VTIMEZONE
BEGIN:VEVENT
DTSTART;TZID=America/Chicago:20260529T120000
DTEND;TZID=America/Chicago:20260529T130000
DTSTAMP:20260423T113909
CREATED:20250930T031626Z
LAST-MODIFIED:20260409T144405Z
UID:10002468-1780056000-1780059600@yprenocounty.com
SUMMARY:Final Friday Foodies
DESCRIPTION:This month we will meet for lunch at Roma’s Italian Restaurant.
URL:https://yprenocounty.com/event/final-friday-foodies-9/
LOCATION:Roma’s Italian Restaurant\, 216 N. Main St.\, Hutchinson\, KS\, 67501\, United States
ATTACH;FMTTYPE=image/avif:https://yprenocounty.com/wp-content/uploads/2025/09/Romas-Italian.avif
ORGANIZER;CN="Young Professionals of Reno County":MAILTO:info@yprenocounty.com
GEO:38.0554475;-97.9314143
X-APPLE-STRUCTURED-LOCATION;VALUE=URI;X-ADDRESS=Roma’s Italian Restaurant 216 N. Main St. Hutchinson KS 67501 United States;X-APPLE-RADIUS=500;X-TITLE=216 N. Main St.:geo:-97.9314143,38.0554475
END:VEVENT
END:VCALENDAR