BEGIN:VCALENDAR
VERSION:2.0
PRODID:-//Young Professionals of Reno County - ECPv6.15.20//NONSGML v1.0//EN
CALSCALE:GREGORIAN
METHOD:PUBLISH
X-ORIGINAL-URL:https://yprenocounty.com
X-WR-CALDESC:Events for Young Professionals of Reno County
REFRESH-INTERVAL;VALUE=DURATION:PT1H
X-Robots-Tag:noindex
X-PUBLISHED-TTL:PT1H
BEGIN:VTIMEZONE
TZID:America/Chicago
BEGIN:DAYLIGHT
TZOFFSETFROM:-0600
TZOFFSETTO:-0500
TZNAME:CDT
DTSTART:20250309T080000
END:DAYLIGHT
BEGIN:STANDARD
TZOFFSETFROM:-0500
TZOFFSETTO:-0600
TZNAME:CST
DTSTART:20251102T070000
END:STANDARD
BEGIN:DAYLIGHT
TZOFFSETFROM:-0600
TZOFFSETTO:-0500
TZNAME:CDT
DTSTART:20260308T080000
END:DAYLIGHT
BEGIN:STANDARD
TZOFFSETFROM:-0500
TZOFFSETTO:-0600
TZNAME:CST
DTSTART:20261101T070000
END:STANDARD
BEGIN:DAYLIGHT
TZOFFSETFROM:-0600
TZOFFSETTO:-0500
TZNAME:CDT
DTSTART:20270314T080000
END:DAYLIGHT
BEGIN:STANDARD
TZOFFSETFROM:-0500
TZOFFSETTO:-0600
TZNAME:CST
DTSTART:20271107T070000
END:STANDARD
END:VTIMEZONE
BEGIN:VEVENT
DTSTART;TZID=America/Chicago:20260421T120000
DTEND;TZID=America/Chicago:20260421T130000
DTSTAMP:20260421T093150
CREATED:20260420T181358Z
LAST-MODIFIED:20260420T181733Z
UID:10002491-1776772800-1776776400@yprenocounty.com
SUMMARY:Food Trucks at the Library
DESCRIPTION:Join us from Noon to 1pm celebrating National Library Week by grabbing lunch from the food trucks at the Hutchinson Public Library! \nFood Trucks on site:\nLos Mariachis TaqueriaComfort & JoyGiuseppe’s Jr. Submarine Sandwiches- Food Trailer \nNo membership is required for this community meetup!
URL:https://yprenocounty.com/event/food-trucks-at-the-library/
LOCATION:Hutchinson Public Library\, 901 N Main St\, Hutchinson\, 67501\, United States
ATTACH;FMTTYPE=image/jpeg:https://yprenocounty.com/wp-content/uploads/2026/04/HPL-Food-Trucks.jpg
GEO:38.0632016;-97.9324595
X-APPLE-STRUCTURED-LOCATION;VALUE=URI;X-ADDRESS=Hutchinson Public Library 901 N Main St Hutchinson 67501 United States;X-APPLE-RADIUS=500;X-TITLE=901 N Main St:geo:-97.9324595,38.0632016
END:VEVENT
END:VCALENDAR